BEGIN:VCALENDAR
VERSION:2.0
PRODID:-//MACI Conventions - ECPv5.3.2.1//NONSGML v1.0//EN
CALSCALE:GREGORIAN
METHOD:PUBLISH
X-WR-CALNAME:MACI Conventions
X-ORIGINAL-URL:https://www.maciconventions.com
X-WR-CALDESC:Events for MACI Conventions
BEGIN:VTIMEZONE
TZID:UTC
BEGIN:STANDARD
TZOFFSETFROM:+0000
TZOFFSETTO:+0000
TZNAME:UTC
DTSTART:20200101T000000
END:STANDARD
END:VTIMEZONE
BEGIN:VEVENT
DTSTART;VALUE=DATE:20200404
DTEND;VALUE=DATE:20200406
DTSTAMP:20260424T094741
CREATED:20200203T181552Z
LAST-MODIFIED:20200203T181552Z
UID:2866-1585958400-1586131199@www.maciconventions.com
SUMMARY:The Franchise Expo
DESCRIPTION:
URL:https://www.maciconventions.com/single-event/the-franchise-expo/
LOCATION:VCC – East Building
END:VEVENT
END:VCALENDAR