BEGIN:VCALENDAR
VERSION:2.0
PRODID:-//MACI Conventions - ECPv5.3.2.1//NONSGML v1.0//EN
CALSCALE:GREGORIAN
METHOD:PUBLISH
X-WR-CALNAME:MACI Conventions
X-ORIGINAL-URL:https://www.maciconventions.com
X-WR-CALDESC:Events for MACI Conventions
BEGIN:VTIMEZONE
TZID:UTC
BEGIN:STANDARD
TZOFFSETFROM:+0000
TZOFFSETTO:+0000
TZNAME:UTC
DTSTART:20200101T000000
END:STANDARD
END:VTIMEZONE
BEGIN:VEVENT
DTSTART;VALUE=DATE:20200208
DTEND;VALUE=DATE:20200210
DTSTAMP:20260420T142028
CREATED:20200203T172436Z
LAST-MODIFIED:20200203T172436Z
UID:2837-1581120000-1581292799@www.maciconventions.com
SUMMARY:Northwest Urological Society
DESCRIPTION:This medical society encourages the study and maintenance of the highest standards for urological education\, practice and research.
URL:https://www.maciconventions.com/single-event/northwest-urological-society/
LOCATION:St. Paul’s Hospital Conference Centre\, 1081 Burrard Street\, Vancouver\, BC\, V6Z 1Y6\, Canada
ORGANIZER;CN="NWUS":MAILTO:djmgmt@gmail.com
END:VEVENT
END:VCALENDAR